BEGIN:VCALENDAR
VERSION:2.0
PRODID:-//Relief and Aid International - ECPv6.15.18//NONSGML v1.0//EN
CALSCALE:GREGORIAN
METHOD:PUBLISH
X-ORIGINAL-URL:https://www.reliefandaidint.org
X-WR-CALDESC:Events for Relief and Aid International
REFRESH-INTERVAL;VALUE=DURATION:PT1H
X-Robots-Tag:noindex
X-PUBLISHED-TTL:PT1H
BEGIN:VTIMEZONE
TZID:UTC
BEGIN:STANDARD
TZOFFSETFROM:+0000
TZOFFSETTO:+0000
TZNAME:UTC
DTSTART:20240101T000000
END:STANDARD
END:VTIMEZONE
BEGIN:VEVENT
DTSTART;TZID=UTC:20250510T100000
DTEND;TZID=UTC:20250510T130000
DTSTAMP:20260422T153852
CREATED:20250417T104129Z
LAST-MODIFIED:20250420T061417Z
UID:7038-1746871200-1746882000@www.reliefandaidint.org
SUMMARY:Relief and Aid International 2025 Scholarship Awards Ceremony
DESCRIPTION:Relief and Aid International 2025 Scholarship Awards Ceremony \nDate: Saturday\, May 10\, 2025\nTime: 10am\nVenue: Omanye Aba Hall\, Accra Metropolitan Assembly (AMA) Premises
URL:https://www.reliefandaidint.org/event/relief-and-aid-international-2025-scholarship-awards-ceremony/
LOCATION:Omanye Aba Hall\, Accra Metropolitan Assembly (AMA) Premises\, Accra Metropolitan Assembly\, Accra\, Ghana
ATTACH;FMTTYPE=image/jpeg:https://www.reliefandaidint.org/wp-content/uploads/2025/04/Relief-and-aid-schoolarship-ceremony-2025.jpg
END:VEVENT
END:VCALENDAR